BEGIN:VCALENDAR
VERSION:2.0
BEGIN:VEVENT
DTSTAMP:20120612T100000
STATUS:CONFIRMED
UID:1560363617addtocalendar
DTSTART:20120612T100000
DTEND:20120612T100000
SUMMARY:National Security on a Shoestring? Do We Dare?
DESCRIPTION:Rick Jacobs
LOCATION:The National Press Club | Murrow Room
BEGIN:VALARM
TRIGGER:-PT15M
ACTION:DISPLAY
END:VALARM
TRANSP:OPAQUE
END:VEVENT
END:VCALENDAR